BEGIN:VCALENDAR
VERSION:2.0
PRODID:-//wp-events-plugin.com//7.2.3.1//EN
TZID:America/New_York
X-WR-TIMEZONE:America/New_York
BEGIN:VEVENT
UID:74@strayhelp.org
DTSTART;TZID=America/New_York:20260430T064500
DTEND;TZID=America/New_York:20260430T080000
DTSTAMP:20260418T143321Z
URL:https://strayhelp.org/em-events/low-cost-spay-neuter-clinic-poughkeeps
 ie/
SUMMARY:Low Cost Spay/Neuter Clinic for Cats- Poughkeepsie
DESCRIPTION:Low cost spay neuter clinic for cats in Poughkeepsie NY in the 
 PetSmart parking lot.  Appointments Required! Services provided by the T.
 A.R.A. Mobile Clinic.\n\nCall 845.206.9021 to schedule your appointment an
 d for full clinic details.\n\nCost of $80 includes: Spay/Neuter Rabies Ear
 s Cleaned &amp\; Nails Trimmed. Other services available during surgery: m
 icrochipping\, vaccines\, flea/tick treatment. Early morning drop off and 
 late afternoon pick up.\n\nStray H.E.L.P. merchandise available for sale i
 n the morning (weather permitting): T-shirts\, cat toys\, hats\, and more!
 \n\n
CATEGORIES:Clinics,Community Events
LOCATION:Poughkeepsie Petsmart\, 2534 South Road\, Poughkeepsie\, NY\, 1260
 3\, United States
X-APPLE-STRUCTURED-LOCATION;VALUE=URI;X-ADDRESS=2534 South Road\, Poughkeep
 sie\, NY\, 12603\, United States;X-APPLE-RADIUS=100;X-TITLE=Poughkeepsie P
 etsmart:geo:0,0
END:VEVENT
BEGIN:VTIMEZONE
TZID:America/New_York
X-LIC-LOCATION:America/New_York
BEGIN:DAYLIGHT
DTSTART:20260308T030000
TZOFFSETFROM:-0500
TZOFFSETTO:-0400
TZNAME:EDT
END:DAYLIGHT
END:VTIMEZONE
END:VCALENDAR