BEGIN:VCALENDAR
VERSION:2.0
PRODID:-//wp-events-plugin.com//7.2.3.1//EN
TZID:America/New_York
X-WR-TIMEZONE:America/New_York
BEGIN:VEVENT
UID:75@strayhelp.org
DTSTART;TZID=America/New_York:20260503T110000
DTEND;TZID=America/New_York:20260503T130000
DTSTAMP:20260418T161630Z
URL:https://strayhelp.org/em-events/community-cats-cookie-decorating-fundr
 aiser/
SUMMARY:Cookie Decorating
DESCRIPTION:Cookie Decorating Fundraiser\nDecorate Cookies and Help Communi
 ty Cats\n\nSunday\, May 3rd | 11:00 AM - 1:00 PM\nRiver Valley Arts Center
 \n9 S Mesier Ave\, Wappingers Falls\, NY\nCost is $55/Person\nPlease RSVP 
 by 4/22/2026 - 845-232-0336\nCookies by Jessica's Sweet Spot
CATEGORIES:Community Events,Fundraiser
LOCATION:River Valley Arts Center\, 9 S. Mesier Avenue\, Wappingers Falls\,
  NY\, 12590\, United States
X-APPLE-STRUCTURED-LOCATION;VALUE=URI;X-ADDRESS=9 S. Mesier Avenue\, Wappin
 gers Falls\, NY\, 12590\, United States;X-APPLE-RADIUS=100;X-TITLE=River V
 alley Arts Center:geo:0,0
END:VEVENT
BEGIN:VTIMEZONE
TZID:America/New_York
X-LIC-LOCATION:America/New_York
BEGIN:DAYLIGHT
DTSTART:20260308T030000
TZOFFSETFROM:-0500
TZOFFSETTO:-0400
TZNAME:EDT
END:DAYLIGHT
END:VTIMEZONE
END:VCALENDAR